BEGIN:VCALENDAR
VERSION:2.0
PRODID:-//ChamberMaster//Event Calendar 2.0//EN
METHOD:PUBLISH
X-PUBLISHED-TTL:P3D
REFRESH-INTERVAL:P3D
CALSCALE:GREGORIAN
BEGIN:VEVENT
DTSTART:20150307T213000Z
DTEND:20150307T233000Z
X-MICROSOFT-CDO-ALLDAYEVENT:FALSE
SUMMARY:Royal Voyage Free Family Event
DESCRIPTION:Great Royal Voyage Family event in the heart of Clifton Park. Discover this fun opportunity which will bring together Pirates and Princesses to gather and enjoy learning Spanish in a fun interactive way. Everyone dresses up like  Spanish Royalty and Pirates of the Caribbean. This goes from any Disney princess to the real royal dresses and makeup including pirates of course. Ideal for your little princess or pirate to get immersed in the proper atmosphere\, tea party\, costumes and a great royal host. Age Group: 4 - 12 years old
X-ALT-DESC;FMTTYPE=text/html:Great Royal Voyage Family event in the heart of Clifton Park. Discover this fun opportunity which will bring together Pirates and Princesses to gather and enjoy learning Spanish in a fun interactive way. Everyone dresses up like &nbsp\;Spanish Royalty and Pirates of the Caribbean. This goes from any Disney princess to the real royal dresses and makeup including pirates of course. Ideal for your little princess or pirate to get immersed in the proper atmosphere\, tea party\, costumes and a great royal host. Age Group: 4 - 12 years old
LOCATION:The Genius Plaza - 511 Moe Road\, Clifton Park\, NY 12065
UID:e.2254.5779
SEQUENCE:3
DTSTAMP:20260423T214704Z
URL:https://chamber.saratoga.org/events/details/royal-voyage-free-family-event-03-07-2015-5779
END:VEVENT

END:VCALENDAR
