BEGIN:VCALENDAR
VERSION:2.0
PRODID:-//ChamberMaster//Event Calendar 2.0//EN
METHOD:PUBLISH
X-PUBLISHED-TTL:P3D
REFRESH-INTERVAL:P3D
CALSCALE:GREGORIAN
BEGIN:VEVENT
DTSTART;VALUE=DATE:20160331
DTEND;VALUE=DATE:20160401
TRANSP:TRANSPARENT
X-MICROSOFT-CDO-ALLDAYEVENT:TRUE
SUMMARY:Round Table Todd Shimkus Facilitator - Business in the Middle East and North Africa Today: Wars\, Oil\, Iran\, Saudi Arabia\, ISIS .. What is really happening today?
DESCRIPTION:theHUB powered by MIgrate is pleased to announce an upcoming roundtable discussion to cover the current situation in the Middle East and North Africa (MENA) region. Drawing from the expertise of professionals that are working in the region\, as well as those that focus on helping companies expand\, this talk will inform attendees about business opportunities and challenges present\, as well as tools available to ease expansion. The discussion aims to pique the interest of potential companies who would benefit from entering the MEAN market\, explore how marketing and business strategies can capitalize on culteral differences\, and consider how a physical regional presence can contribute to business growth. \n\nRobert Starbuck\, CEO Migrate \n\nKen Rotondo\, President Mindgenomics Advisors\n\nCraig Hall\, Founder of Marketing Wiz\n\nJoseph F. Jacob\, Attorney at Law\n\nTodd Shimkus\, President Saratoga County Chamber
X-ALT-DESC;FMTTYPE=text/html:theHUB powered by MIgrate is pleased to announce an upcoming roundtable discussion to cover the current situation in the Middle East and North Africa (MENA) region. Drawing from the expertise of professionals that are working in the region\, as well as those that focus on helping companies expand\, this talk will inform attendees about business opportunities and challenges present\, as well as tools available to ease expansion. The discussion aims to pique the interest of potential companies who would benefit from entering the MEAN market\, explore how marketing and business strategies can capitalize on culteral differences\, and consider how a physical regional presence can contribute to business growth.&nbsp\;<br />\nRobert Starbuck\, CEO Migrate&nbsp\;<br />\nKen Rotondo\, President Mindgenomics Advisors<br />\nCraig Hall\, Founder of Marketing Wiz<br />\nJoseph F. Jacob\, Attorney at Law<br />\nTodd Shimkus\, President Saratoga County Chamber
LOCATION:First Floor Classroom TheHUB located at 63 Putnam Street\, entrance across the parking lot near the Putnam Den
UID:e.2254.15408
SEQUENCE:3
DTSTAMP:20260422T010427Z
URL:https://chamber.saratoga.org/events/details/round-table-todd-shimkus-facilitator-business-in-the-middle-east-and-north-africa-today-wars-oil-iran-saudi-arabia-isis-what-is-really-happening-today-03-31-2016-15408
END:VEVENT

END:VCALENDAR
