BEGIN:VCALENDAR
VERSION:2.0
PRODID:-//ChamberMaster//Event Calendar 2.0//EN
METHOD:PUBLISH
X-PUBLISHED-TTL:P3D
REFRESH-INTERVAL:P3D
CALSCALE:GREGORIAN
BEGIN:VEVENT
DTSTART:20150809T130000Z
DTEND:20150809T210000Z
X-MICROSOFT-CDO-ALLDAYEVENT:FALSE
SUMMARY:Round Lake Arts and Crafts Festival
DESCRIPTION:Art and Craft Festival\n\nThis event has been running 25+ years. Offers for sale handmade crafts and art work. Local exhibitors\, exhibitors from around the state and across the US. Great stuff\, good food\, great pies and fun for all.\n\nwww.roundlakevillage.org
X-ALT-DESC;FMTTYPE=text/html:<p>Art and Craft Festival</p>\n\n<p>This event has been running 25+ years. Offers for sale handmade crafts and art work. Local exhibitors\, exhibitors from around the state and across the US. Great stuff\, good food\, great pies and fun for all.</p>\n\n<p><a href="http://www.roundlakevillage.org/">www.roundlakevillage.org</a></p>\n
LOCATION:Round Lake Village Bike Path
UID:e.2254.6286
SEQUENCE:3
DTSTAMP:20260423T024114Z
URL:https://chamber.saratoga.org/events/details/round-lake-arts-and-crafts-festival-08-09-2015-6286
END:VEVENT

END:VCALENDAR
