BEGIN:VCALENDAR
VERSION:2.0
PRODID:-//ChamberMaster//Event Calendar 2.0//EN
METHOD:PUBLISH
X-PUBLISHED-TTL:P3D
REFRESH-INTERVAL:P3D
CALSCALE:GREGORIAN
BEGIN:VEVENT
DTSTART:20160807T200000Z
DTEND:20160807T230000Z
X-MICROSOFT-CDO-ALLDAYEVENT:FALSE
SUMMARY:Rood & Riddle in Saratoga Open House
DESCRIPTION:Grand Opening of our new facility at Rood & Riddle Equine Hospital in Saratoga! Join us for tours of our facilities and refreshments. We hope to see you and any guests that you would like to invite. Please come as you are\, whether straight from the track or on your way for a night on the town! No RSVP is necessary.
X-ALT-DESC;FMTTYPE=text/html:Grand Opening of our new facility at Rood &amp\; Riddle Equine Hospital in Saratoga! Join us for tours of our facilities and refreshments. We hope to see you and any guests that you would like to invite. Please come as you are\, whether straight from the track or on your way for a night on the town! No RSVP is necessary.
LOCATION:Rood & Riddle in Saratoga 63 Henning Road Saratoga Springs\, NY 12866
UID:e.2254.17337
SEQUENCE:3
DTSTAMP:20260421T003451Z
URL:https://chamber.saratoga.org/events/details/rood-riddle-in-saratoga-open-house-08-07-2016-17337
END:VEVENT

END:VCALENDAR
