BEGIN:VCALENDAR
VERSION:2.0
PRODID:-//ChamberMaster//Event Calendar 2.0//EN
METHOD:PUBLISH
X-PUBLISHED-TTL:P3D
REFRESH-INTERVAL:P3D
CALSCALE:GREGORIAN
BEGIN:VEVENT
DTSTART:20150706T123000Z
DTEND:20150710T190000Z
X-MICROSOFT-CDO-ALLDAYEVENT:FALSE
SUMMARY:Robots Builder Summer Camp
DESCRIPTION:Robotics is our beginner's class where your child will learn to build and program robots using Lego Education's award-winning WeDo robotics and programming software. In Robotics 1\, students follow step-by-step on-screen instructions to build their robots\, and then write suggested programs to get their robots working. Those who are ready write more complicated programs involving motion or tilt sensors\, or improvise to make their robots achieve certain tasks. The course includes a digital journal where students write about their robots and give it a personality. Age Group: 9 -13 years old Class Size: 21 children Pricing: $ 120 Schedule: Monday to Friday: From 8:30 AM to 3:00 PM Sessions: Week 1: July 6th Week 3: July 20th Week 5: Aug 3rd Week 7: Aug 17th Morning Care ($20 per week) 7:30 AM  8:30 AM and After Care ($40 per week) 3:00 PM  6:00 PM Registration: http://thegeniusplaza.com/robots-builder/ Phone: 518.280.9550
X-ALT-DESC;FMTTYPE=text/html:Robotics is our beginner&#39\;s class where your child will learn to build and program robots using Lego Education&#39\;s award-winning WeDo robotics and programming software. In Robotics 1\, students follow step-by-step on-screen instructions to build their robots\, and then write suggested programs to get their robots working. Those who are ready write more complicated programs involving motion or tilt sensors\, or improvise to make their robots achieve certain tasks. The course includes a digital journal where students write about their robots and give it a personality. Age Group: 9 -13 years old Class Size: 21 children Pricing: $ 120 Schedule: Monday to Friday: From 8:30 AM to 3:00 PM Sessions: Week 1: July 6th Week 3: July 20th Week 5: Aug 3rd Week 7: Aug 17th Morning Care ($20 per week) 7:30 AM&nbsp\; 8:30 AM and After Care ($40 per week) 3:00 PM&nbsp\; 6:00 PM Registration: http://thegeniusplaza.com/robots-builder/ Phone: 518.280.9550
LOCATION:The Genius Plaza - 511 Moe Road\, Clifton Park\, NY 12065
UID:e.2254.7640
SEQUENCE:3
DTSTAMP:20260423T035907Z
URL:https://chamber.saratoga.org/events/details/robots-builder-summer-camp-07-06-2015-7640
END:VEVENT

END:VCALENDAR
