BEGIN:VCALENDAR
VERSION:2.0
PRODID:-//ChamberMaster//Event Calendar 2.0//EN
METHOD:PUBLISH
X-PUBLISHED-TTL:P3D
REFRESH-INTERVAL:P3D
CALSCALE:GREGORIAN
BEGIN:VEVENT
DTSTART:20160511T183000Z
DTEND:20160511T190000Z
X-MICROSOFT-CDO-ALLDAYEVENT:FALSE
SUMMARY:Ribbon-cutting ceremony for New Academic Wing
DESCRIPTION:Join Saratoga Independent School students\, faculty\, trustees\, and friends for a ribbon-cutting ceremony to officially open our new acadmic wing!  Four of eight classrooms on the first floor have been completed and are now being used by our Pre-Kindergarten program and Kindergarten classes.\n\n\n\nTours of the new academic wing will be available after the ribbon-cutting ceremony as well as during Kite Festival Day on Saturday\, May 14 from 10 am to 2 pm.\n\n\n\nMore information is available at: www.siskids.org.
X-ALT-DESC;FMTTYPE=text/html:Join Saratoga Independent School students\, faculty\, trustees\, and friends for a ribbon-cutting ceremony to officially open our new acadmic wing! &nbsp\;Four of eight classrooms on the first floor have been completed and are now being used by our Pre-Kindergarten program and Kindergarten classes.<br />\n<br />\nTours of the new academic wing will be available after the ribbon-cutting ceremony as well as during Kite Festival Day on Saturday\, May 14 from 10 am to 2 pm.<br />\n<br />\nMore information is available at: www.siskids.org.&nbsp\;
LOCATION:Saratoga Independent School
UID:e.2254.16674
SEQUENCE:3
DTSTAMP:20260421T160620Z
URL:https://chamber.saratoga.org/events/details/ribbon-cutting-ceremony-for-new-academic-wing-05-11-2016-16674
END:VEVENT

END:VCALENDAR
