BEGIN:VCALENDAR
VERSION:2.0
PRODID:-//ChamberMaster//Event Calendar 2.0//EN
METHOD:PUBLISH
X-PUBLISHED-TTL:P3D
REFRESH-INTERVAL:P3D
CALSCALE:GREGORIAN
BEGIN:VEVENT
DTSTART;VALUE=DATE:20150703
DTEND;VALUE=DATE:20150706
TRANSP:TRANSPARENT
X-MICROSOFT-CDO-ALLDAYEVENT:TRUE
SUMMARY:Rhino Lacross at Saratoga Springs
DESCRIPTION:Lacross Shoot Out
X-ALT-DESC;FMTTYPE=text/html:Lacross Shoot Out
LOCATION:Gavin Park 10 Lewis Road Saratoga Springs\, NY 12866
UID:e.2254.6670
SEQUENCE:3
DTSTAMP:20260423T041435Z
URL:https://chamber.saratoga.org/events/details/rhino-lacross-at-saratoga-springs-07-03-2015-6670
END:VEVENT

END:VCALENDAR
