BEGIN:VCALENDAR
VERSION:2.0
PRODID:-//ChamberMaster//Event Calendar 2.0//EN
METHOD:PUBLISH
X-PUBLISHED-TTL:P3D
REFRESH-INTERVAL:P3D
CALSCALE:GREGORIAN
BEGIN:VEVENT
DTSTART:20151212T150000Z
DTEND:20151212T160000Z
X-MICROSOFT-CDO-ALLDAYEVENT:FALSE
SUMMARY:Rescuing the Holiday Spirit - Puppet Show
DESCRIPTION:The Puppet Show offers to our young audience an assortment of fun and educational performances. Of course\, kids love these fun and magical creations more than anyone\, and Genius Plaza is home to a puppet theater dedicated to serving the kid set. We will entertain our children once a month\, check event calendar for dates. This show introduces to children concepts like respecting holidays and creating a positive holiday atmosphere around them in a fun and entertaining way. It combines a delightful mix of zany puppetry and live interaction that is enjoyed by all. This puppet production is especially engaging and interactive! It?s a great show for pre-school age children but all children are welcome to attend. Have a good time at our ?Rescuing the Holiday Spirit? ? puppet show! Age Group: 2 - 5 years old Event Size: 60 Price: Free (Registration required) Venue: The Genius Plaza 509 Moe Road Clifton Park\, NY 12065 For questions: Call: 518-280-9550
X-ALT-DESC;FMTTYPE=text/html:The Puppet Show offers to our young audience an assortment of fun and educational performances. Of course\, kids love these fun and magical creations more than anyone\, and Genius Plaza is home to a puppet theater dedicated to serving the kid set. We will entertain our children once a month\, check event calendar for dates. This show introduces to children concepts like respecting holidays and creating a positive holiday atmosphere around them in a fun and entertaining way. It combines a delightful mix of zany puppetry and live interaction that is enjoyed by all. This puppet production is especially engaging and interactive! It?s a great show for pre-school age children but all children are welcome to attend. Have a good time at our ?Rescuing the Holiday Spirit? ? puppet show! Age Group: 2 - 5 years old Event Size: 60 Price: Free (Registration required) Venue: The Genius Plaza 509 Moe Road Clifton Park\, NY 12065 For questions: Call: 518-280-9550
LOCATION:The Genius Plaza - 509 Moe Road\, Clifton Park\, NY 12065
UID:e.2254.13131
SEQUENCE:3
DTSTAMP:20260422T082021Z
URL:https://chamber.saratoga.org/events/details/rescuing-the-holiday-spirit-puppet-show-12-12-2015-13131
END:VEVENT

END:VCALENDAR
