BEGIN:VCALENDAR
VERSION:2.0
PRODID:-//ChamberMaster//Event Calendar 2.0//EN
METHOD:PUBLISH
X-PUBLISHED-TTL:P3D
REFRESH-INTERVAL:P3D
CALSCALE:GREGORIAN
BEGIN:VEVENT
DTSTART:20150808T000000Z
DTEND:20150816T180000Z
X-MICROSOFT-CDO-ALLDAYEVENT:FALSE
SUMMARY:Rent
DESCRIPTION:in photos Nik Gatzendorfer\, JJ Buechner\, Vivian Hwang and Adam Marcil The Local Actors Guild of Saratoga proudly presents Jonathan Larson?s RENT. Set in the East Village of New York City\, Rent is about falling in love\, finding your voice and living for today. Winner of the TONY Award for Best Musical and the Pulitzer Prize for Drama\, Rent has become a pop cultural phenomenon with songs that rock and a story that resonates with audiences of all ages. Based loosely on Puccini's La Boheme\, Jonathan Larson's Rent follows a year in the life of a group of impoverished young artists and musicians struggling to survive and create in New York's Lower East Side\, under the shadow of HIV/AIDS. The physical and emotional complications of the disease pervade the lives of Roger\, Mimi\, Tom\, and Angel. Maureen deals with her chronic infidelity through performance art\; her partner\, Joanne\, wonders if their relationship is worth the trouble. Benny has sold out his Bohemian ideals in exchange for a hefty income and is on the outs with his former friends. Mark\, an aspiring filmmaker\, feels like an outsider to life in general. How these young bohemians negotiate their dreams\, loves\, and conflicts provides the narrative thread to this groundbreaking musical. Show dates are August 7\, 8\, 14 & 15 at 8pm August 9 & 16 at 2pm at The Saratoga Arts Center\, 320 Broadway\, Saratoga Springs. $20 General Admission. For reservations please call 518-393-3496
X-ALT-DESC;FMTTYPE=text/html:in photos Nik Gatzendorfer\, JJ Buechner\, Vivian Hwang and Adam Marcil The Local Actors Guild of Saratoga proudly presents Jonathan Larson?s RENT. Set in the East Village of New York City\, Rent is about falling in love\, finding your voice and living for today. Winner of the TONY Award for Best Musical and the Pulitzer Prize for Drama\, Rent has become a pop cultural phenomenon with songs that rock and a story that resonates with audiences of all ages. Based loosely on Puccini&#39\;s La Boheme\, Jonathan Larson&#39\;s Rent follows a year in the life of a group of impoverished young artists and musicians struggling to survive and create in New York&#39\;s Lower East Side\, under the shadow of HIV/AIDS. The physical and emotional complications of the disease pervade the lives of Roger\, Mimi\, Tom\, and Angel. Maureen deals with her chronic infidelity through performance art\; her partner\, Joanne\, wonders if their relationship is worth the trouble. Benny has sold out his Bohemian ideals in exchange for a hefty income and is on the outs with his former friends. Mark\, an aspiring filmmaker\, feels like an outsider to life in general. How these young bohemians negotiate their dreams\, loves\, and conflicts provides the narrative thread to this groundbreaking musical. Show dates are August 7\, 8\, 14 &amp\; 15 at 8pm August 9 &amp\; 16 at 2pm at The Saratoga Arts Center\, 320 Broadway\, Saratoga Springs. $20 General Admission. For reservations please call 518-393-3496
LOCATION:Dee Sarno Theater 320 Broadway
UID:e.2254.10161
SEQUENCE:3
DTSTAMP:20260423T021950Z
URL:https://chamber.saratoga.org/events/details/rent-08-07-2015-10161
END:VEVENT

END:VCALENDAR
