BEGIN:VCALENDAR
VERSION:2.0
PRODID:-//ChamberMaster//Event Calendar 2.0//EN
METHOD:PUBLISH
X-PUBLISHED-TTL:P3D
REFRESH-INTERVAL:P3D
CALSCALE:GREGORIAN
BEGIN:VEVENT
DTSTART:20160618T160000Z
DTEND:20160619T040000Z
X-MICROSOFT-CDO-ALLDAYEVENT:FALSE
SUMMARY:Relay For Life of Saratoga Springs
DESCRIPTION:At Relay For Life events\, communities across the globe come together to honor cancer survivors\, remember loved ones lost\, and fight back against a disease that has already taken too much. The funds raised truly make a difference in the fight against cancer - just ask one of the nearly 14 million cancer survivors who will celebrate another birthday this year! Relay For Life teams camp out overnight and take turns walking around a track at the Saratoga High School.
X-ALT-DESC;FMTTYPE=text/html:At Relay For Life events\, communities across the globe come together to honor cancer survivors\, remember loved ones lost\, and fight back against a disease that has already taken too much. The funds raised truly make a difference in the fight against cancer - just ask one of the nearly 14 million cancer survivors who will celebrate another birthday this year! Relay For Life teams camp out overnight and take turns walking around a track at the Saratoga High School.
LOCATION:Saratoga Springs High School\, 1 Blue Streak Blvd\, Saratoga Springs 12866
UID:e.2254.15560
SEQUENCE:3
DTSTAMP:20260421T080946Z
URL:https://chamber.saratoga.org/events/details/relay-for-life-of-saratoga-springs-06-18-2016-15560
END:VEVENT

END:VCALENDAR
