BEGIN:VCALENDAR
VERSION:2.0
PRODID:-//ChamberMaster//Event Calendar 2.0//EN
METHOD:PUBLISH
X-PUBLISHED-TTL:P3D
REFRESH-INTERVAL:P3D
CALSCALE:GREGORIAN
BEGIN:VEVENT
DTSTART:20160410T150000Z
DTEND:20160410T163000Z
X-MICROSOFT-CDO-ALLDAYEVENT:FALSE
SUMMARY:Reiki Yoga Music - Yin Yoga Class
DESCRIPTION:Don't miss this chance to benefit from a mixed-modality wellness experience as 4 talented practitioners come together! The R.Y.M. Workshop will include a 90 minute Yin yoga class that incorporates Reiki\, essential oils & vibroacoustic music. Reiki is a Japanese technique that uses healing energy to reduce stress & increase relaxation\, while promoting overall well-being. Reiki practitioners: April Hannah & Victoria Harris. Yin yoga is a passive style of yoga that targets deep connective tissue & fascia\, rather than muscle. By holding seated or reclined poses for an extended period of time\, greater flexibility & improved range of motion are achieved. Yoga instructor: Karen Radley. Vibroacoustic therapy uses live music to reduce emotional & physical pain and promote harmony & balance within the mind\, body & spirit. Therapeutic musician: Dennis Dominick. No prior experience needed\, all are welcome!
X-ALT-DESC;FMTTYPE=text/html:Don&#39\;t miss this chance to benefit from a mixed-modality wellness experience as 4 talented practitioners come together! The R.Y.M. Workshop will include a 90 minute Yin yoga class that incorporates Reiki\, essential oils &amp\; vibroacoustic music. Reiki is a Japanese technique that uses healing energy to reduce stress &amp\; increase relaxation\, while promoting overall well-being. Reiki practitioners: April Hannah &amp\; Victoria Harris. Yin yoga is a passive style of yoga that targets deep connective tissue &amp\; fascia\, rather than muscle. By holding seated or reclined poses for an extended period of time\, greater flexibility &amp\; improved range of motion are achieved. Yoga instructor: Karen Radley. Vibroacoustic therapy uses live music to reduce emotional &amp\; physical pain and promote harmony &amp\; balance within the mind\, body &amp\; spirit. Therapeutic musician: Dennis Dominick. No prior experience needed\, all are welcome!
LOCATION:One Big Roof - Saratoga Health & Wellness Building - 538 Maple Ave Saratoga Springs NY 12866
UID:e.2254.15281
SEQUENCE:3
DTSTAMP:20260421T164334Z
URL:https://chamber.saratoga.org/events/details/reiki-yoga-music-yin-yoga-class-04-10-2016-15281
END:VEVENT

END:VCALENDAR
