BEGIN:VCALENDAR
VERSION:2.0
PRODID:-//ChamberMaster//Event Calendar 2.0//EN
METHOD:PUBLISH
X-PUBLISHED-TTL:P3D
REFRESH-INTERVAL:P3D
CALSCALE:GREGORIAN
BEGIN:VEVENT
DTSTART:20160410T143000Z
DTEND:20160410T163000Z
X-MICROSOFT-CDO-ALLDAYEVENT:FALSE
SUMMARY:Reiki\, Yin Yoga and Music with April Hannah
DESCRIPTION:R.Y.M. Workshop: Reiki\, Yin Yoga and Music with April Hannah Come join four practitioners for a mixed-modality wellness experience: This workshop will include a 90-minute YIN YOGA class that incorporates REIKI & VIBROACOUSTIC MUSIC!
X-ALT-DESC;FMTTYPE=text/html:R.Y.M. Workshop: Reiki\, Yin Yoga and Music with April Hannah Come join four practitioners for a mixed-modality wellness experience: This workshop will include a 90-minute YIN YOGA class that incorporates REIKI &amp\; VIBROACOUSTIC MUSIC!
LOCATION:One Big Roof\, Center for Mindful Practices - Saratoga Health and Wellness Building\, 538 Maple Ave (Route 9N) - (Across from Maple Ave Middle School)
UID:e.2254.14896
SEQUENCE:3
DTSTAMP:20260421T164415Z
URL:https://chamber.saratoga.org/events/details/reiki-yin-yoga-and-music-with-april-hannah-04-10-2016-14896
END:VEVENT

END:VCALENDAR
