BEGIN:VCALENDAR
VERSION:2.0
PRODID:-//ChamberMaster//Event Calendar 2.0//EN
METHOD:PUBLISH
X-PUBLISHED-TTL:P3D
REFRESH-INTERVAL:P3D
CALSCALE:GREGORIAN
BEGIN:VEVENT
DTSTART:20160611T223000Z
DTEND:20160612T035500Z
X-MICROSOFT-CDO-ALLDAYEVENT:FALSE
SUMMARY:Red Cross Fire + Ice Gala
DESCRIPTION:Enjoy gourmet cuisine and open bar courtesy of Mazzone Hospitality\, live music from Body & Soul\, exciting live and silent auctions\, and much more\, all while supporting the life-saving mission of the American Red Cross. NewsChannel13 anchor Benita Zahn will serve as Master of Ceremonies as we honor Joan Regan Hayner\, chief executive officer of CapitalCare Medical Group\, and Ed Mitzen\, founder of Fingerpaint\, as the 2016 Fire + Ice Gala Honorary Co-Chairs. As the evening?s theme suggests\, the Red Cross is there after home fires and ice storms\, among countless other disasters big and small\, to bring help and hope to families in need. Your support of the Fire + Ice Gala helps to ensure that Red Cross programs and services are available across the greater Capital Region\, 24 hours a day\, 365 days a year.
X-ALT-DESC;FMTTYPE=text/html:Enjoy gourmet cuisine and open bar courtesy of Mazzone Hospitality\, live music from Body &amp\; Soul\, exciting live and silent auctions\, and much more\, all while supporting the life-saving mission of the American Red Cross. NewsChannel13 anchor Benita Zahn will serve as Master of Ceremonies as we honor Joan Regan Hayner\, chief executive officer of CapitalCare Medical Group\, and Ed Mitzen\, founder of Fingerpaint\, as the 2016 Fire + Ice Gala Honorary Co-Chairs. As the evening?s theme suggests\, the Red Cross is there after home fires and ice storms\, among countless other disasters big and small\, to bring help and hope to families in need. Your support of the Fire + Ice Gala helps to ensure that Red Cross programs and services are available across the greater Capital Region\, 24 hours a day\, 365 days a year.
LOCATION:Saratoga City Center
UID:e.2254.16487
SEQUENCE:3
DTSTAMP:20260421T092719Z
URL:https://chamber.saratoga.org/events/details/red-cross-fire-ice-gala-06-11-2016-16487
END:VEVENT

END:VCALENDAR
