BEGIN:VCALENDAR
VERSION:2.0
PRODID:-//ChamberMaster//Event Calendar 2.0//EN
METHOD:PUBLISH
X-PUBLISHED-TTL:P3D
REFRESH-INTERVAL:P3D
CALSCALE:GREGORIAN
BEGIN:VEVENT
DTSTART:20160429T150000Z
DTEND:20160429T160000Z
X-MICROSOFT-CDO-ALLDAYEVENT:FALSE
SUMMARY:Reconnecting with Nature in Congress Park
DESCRIPTION:Stroll through Congress Park and learn to identify various trees using bark and branches. After the walk we will return to the library to create twig vases! Please contact the Saratoga Springs Public Library at (518) 584-7860 option 3 to register.
X-ALT-DESC;FMTTYPE=text/html:Stroll through Congress Park and learn to identify various trees using bark and branches. After the walk we will return to the library to create twig vases! Please contact the Saratoga Springs Public Library at (518) 584-7860 option 3 to register.
LOCATION:Saratoga Springs Library and Congress Park
UID:e.2254.15611
SEQUENCE:3
DTSTAMP:20260421T163931Z
URL:https://chamber.saratoga.org/events/details/reconnecting-with-nature-in-congress-park-04-29-2016-15611
END:VEVENT

END:VCALENDAR
