BEGIN:VCALENDAR
VERSION:2.0
PRODID:-//ChamberMaster//Event Calendar 2.0//EN
METHOD:PUBLISH
X-PUBLISHED-TTL:P3D
REFRESH-INTERVAL:P3D
CALSCALE:GREGORIAN
BEGIN:VEVENT
DTSTART:20160224T000000Z
DTEND:20160224T013000Z
X-MICROSOFT-CDO-ALLDAYEVENT:FALSE
SUMMARY:Reading\, Signing\, and Q & A: W.B. Belcher Presents Lay Down Your Weary Tune
DESCRIPTION:Local author William Belcher's debut novel has received early praise from Publisher's Weekly\, Booklist\, and Library Journal. Set along the Batten Kill\, Lay Down Your Weary Tune is about a ghostwriter for a reclusive\, mercurial folk music icon. Caffe Lena\, Saratoga Springs\, and Washington County are all players in the story\, which Matthew Quick (New York Times bestselling author of The Silver Linings Playbook) calls a heartening\, timeless\, and stirring song for the perfectly broken. Beautifully thrownback. Openhanded. True. Belcher\, who serves as The Hyde's director of external affairs\, will read a few passages and discuss the book's local connections. A signing will follow in the Rotunda Gallery.
X-ALT-DESC;FMTTYPE=text/html:Local author William Belcher&#39\;s debut novel has received early praise from Publisher&#39\;s Weekly\, Booklist\, and Library Journal. Set along the Batten Kill\, Lay Down Your Weary Tune is about a ghostwriter for a reclusive\, mercurial folk music icon. Caffe Lena\, Saratoga Springs\, and Washington County are all players in the story\, which Matthew Quick (New York Times bestselling author of The Silver Linings Playbook) calls a heartening\, timeless\, and stirring song for the perfectly broken. Beautifully thrownback. Openhanded. True. Belcher\, who serves as The Hyde&#39\;s director of external affairs\, will read a few passages and discuss the book&#39\;s local connections. A signing will follow in the Rotunda Gallery.
LOCATION:The Hyde Collection 161 Warren Street Glens Falls\, NY 12801
UID:e.2254.14289
SEQUENCE:3
DTSTAMP:20260422T022744Z
URL:https://chamber.saratoga.org/events/details/reading-signing-and-q-a-w-b-belcher-presents-lay-down-your-weary-tune-02-23-2016-14289
END:VEVENT

END:VCALENDAR
