BEGIN:VCALENDAR
VERSION:2.0
PRODID:-//ChamberMaster//Event Calendar 2.0//EN
METHOD:PUBLISH
X-PUBLISHED-TTL:P3D
REFRESH-INTERVAL:P3D
CALSCALE:GREGORIAN
BEGIN:VEVENT
DTSTART:20150425T173000Z
DTEND:20150425T070000Z
X-MICROSOFT-CDO-ALLDAYEVENT:FALSE
SUMMARY:Raptors Rock!
DESCRIPTION:Designated by the Audubon Society as an “Important Birding Area” in NY\, Saratoga Battlefield is a top destination for birding in Saratoga County! Wildlife educator and rehabilitator Trish Marki will bring a selection of raptors—owls\, hawks\, falcons—for you to meet up close and to hear about where they live and how they survive in their habitat.
X-ALT-DESC;FMTTYPE=text/html:<span style="font-size: 10pt\; line-height: 115%\; font-family: Georgia\, serif\;">Designated by the Audubon Society as an “Important Birding Area” in NY\, Saratoga Battlefield is a top destination for birding in Saratoga County! Wildlife educator and rehabilitator Trish Marki will bring a selection of raptors</span><span style="font-size: 10pt\; line-height: 115%\; font-family: Georgia\, serif\;">—</span><span style="font-size: 10pt\; line-height: 115%\; font-family: Georgia\, serif\;">owls\, hawks\, falcons</span><span style="font-size: 10pt\; line-height: 115%\; font-family: Georgia\, serif\;">—</span><span style="font-size: 10pt\; line-height: 115%\; font-family: Georgia\, serif\;">for you to meet up close and to hear about where they live and how they survive in their habitat.</span><br>
LOCATION:Saratoga National Historical Park
UID:e.2254.4923
SEQUENCE:3
DTSTAMP:20260423T195128Z
URL:https://chamber.saratoga.org/events/details/raptors-rock-04-25-2015-4923
END:VEVENT

END:VCALENDAR
