BEGIN:VCALENDAR
VERSION:2.0
PRODID:-//ChamberMaster//Event Calendar 2.0//EN
METHOD:PUBLISH
X-PUBLISHED-TTL:P3D
REFRESH-INTERVAL:P3D
CALSCALE:GREGORIAN
BEGIN:VEVENT
DTSTART:20150422T220000Z
DTEND:20150423T000000Z
X-MICROSOFT-CDO-ALLDAYEVENT:FALSE
SUMMARY:Raising Ms. President
DESCRIPTION:Girl Scouts of Northeastern New York is proud to host a screening of Raising Ms. President\, a 60 minute documentary film which explores how raise the next generation of female leaders. This film is suitable for 11 years old up.   Hosted by: Christina Arangio WTEN Panelists: Mayor Kathy Sheehan\, City of Albany Professor Katherine Graney\, Skidmore College Mary Alice Molgard\, Women's Press Club of NYS Alexia Holden\, Guilderland High School
X-ALT-DESC;FMTTYPE=text/html:Girl Scouts of Northeastern New York is proud to host a screening of Raising Ms. President\, a 60 minute documentary film which explores how raise the next generation of female leaders. This film is suitable for 11 years old up.&nbsp\; &nbsp\;Hosted by: Christina Arangio WTEN Panelists: Mayor Kathy Sheehan\, City of Albany Professor Katherine Graney\, Skidmore College Mary Alice Molgard\, Women&#39\;s Press Club of NYS Alexia Holden\, Guilderland High School
LOCATION:Spectrum8 Theatre 290 Delaware Ave\, Albany\, NY 12209 (518) 449-8995
UID:e.2254.7579
SEQUENCE:3
DTSTAMP:20260423T195122Z
URL:https://chamber.saratoga.org/events/details/raising-ms-president-04-22-2015-7579
END:VEVENT

END:VCALENDAR
