BEGIN:VCALENDAR
VERSION:2.0
PRODID:-//ChamberMaster//Event Calendar 2.0//EN
METHOD:PUBLISH
X-PUBLISHED-TTL:P3D
REFRESH-INTERVAL:P3D
CALSCALE:GREGORIAN
BEGIN:VEVENT
DTSTART:20151118T220000Z
DTEND:20151119T010000Z
X-MICROSOFT-CDO-ALLDAYEVENT:FALSE
SUMMARY:Raising Dough to benefit The Wesley Foundation at The West Side Sports Bar and Grill
DESCRIPTION:Raising Dough to benefit The Wesley Foundation at The West Side Sports Bar and Grill\n\nWednesday\, November 18th\n\n5 p.m.   8 p.m.\n\nThe West Side Sports Bar and Grill\, 112 Congress Street\, Saratoga Springs\n\nThe West Side Sports Bar and Grill will donate 20% of food\, beverage and takeout sales to The Wesley Foundation to support the renovations of The Springs Building on The Wesley Community Campus in Saratoga Springs at this event from 5 to 8 p.m. on Wednesday\, November 18th.  The Wesley Community serves more than 700 seniors and those with long-term care needs.  A raffle for a $50 West Side Gift Certificate and a Silent Auction also will be part of the fun.  Donations to The Wesley Foundation are gratefully accepted at the event.\n\nhttps://www.facebook.com/events/1653590058191573/
X-ALT-DESC;FMTTYPE=text/html:<strong><span style="font-size: medium\;"><span style="font-family: calibri\;">Raising Dough to benefit The Wesley Foundation at The West Side Sports Bar and Grill</span></span></strong><br />\n<span style="font-size: medium\;"><span style="font-family: calibri\;">Wednesday\, November 18<sup><span style="font-size: small\;">th</span></sup></span></span><br />\n<span style="font-size: medium\;"><span style="font-family: calibri\;">5 p.m. &ndash\; 8 p.m.</span></span><br />\n<span style="font-size: medium\;"><span style="font-family: calibri\;">The West Side Sports Bar and Grill\, 112 Congress Street\, Saratoga Springs</span></span><br />\n<span style="font-size: medium\;"><span style="font-family: calibri\;">The West Side Sports Bar and Grill will donate 20% of food\, beverage and takeout sales to The Wesley Foundation to support the renovations of The Springs Building on The Wesley Community Campus in Saratoga Springs at this event from 5 to 8 p.m. on Wednesday\, November 18<sup><span style="font-size: small\;">th</span></sup>.&nbsp\; The Wesley Community serves more than 700 seniors and those with long-term care needs.&nbsp\; A raffle for a $50 West Side Gift Certificate and a Silent Auction also will be part of the fun.&nbsp\; Donations to The Wesley Foundation are gratefully accepted at the event.</span></span><br />\n<span style="font-size: 11pt\;"><span style="font-family: calibri\,sans-serif\;"><a href="https://www.facebook.com/events/1653590058191573/"><span style="color: rgb(0\, 0\, 255)\;">https://www.facebook.com/events/1653590058191573/</span></a></span></span>
LOCATION:The West Side Sports Bar and Grill
UID:e.2254.12818
SEQUENCE:3
DTSTAMP:20260422T104408Z
URL:https://chamber.saratoga.org/events/details/raising-dough-to-benefit-the-wesley-foundation-at-the-west-side-sports-bar-and-grill-11-18-2015-12818
END:VEVENT

END:VCALENDAR
