BEGIN:VCALENDAR
VERSION:2.0
PRODID:-//ChamberMaster//Event Calendar 2.0//EN
METHOD:PUBLISH
X-PUBLISHED-TTL:P3D
REFRESH-INTERVAL:P3D
CALSCALE:GREGORIAN
BEGIN:VEVENT
DTSTART:20151206T153000Z
DTEND:20151206T170000Z
X-MICROSOFT-CDO-ALLDAYEVENT:FALSE
SUMMARY:R.Y.M Workshop - Reiki Yoga Music!
DESCRIPTION:Don't miss this chance to benefit from a mixed-modality wellness experience as 4 talented practioners come together! The R.Y.M. Workshop will include a 90 minute Yin yoga class that incorporates Reiki\, essential oils & vibroacoustic music. Reiki is a Japanese technique that uses healing energy to reduce stress & increase relaxation\, while promoting overall well-being. Reiki practitioners: April Hannah & Victoria Harris. Yin yoga is a passive style of yoga that targets deep connective tissue & fascia\, rather than muscle. By holding seated or reclined poses for an extended period of time\, greater flexibility & improved range of motion are achieved. Yoga instructor: Karen Radley. Vibroacoustic therapy uses live music to reduce emotional & physical pain and promote harmony & balance within the the mind\, body & spirit. Therapeutic musician: Dennis Dominick. No prior experience needed\, all are welcome! Wellness investment: $40 Pre-registration required\; space is limited. http://www.hannahshealing.com/classes-workshops/
X-ALT-DESC;FMTTYPE=text/html:Don&#39\;t miss this chance to benefit from a mixed-modality wellness experience as 4 talented practioners come together! The R.Y.M. Workshop will include a 90 minute Yin yoga class that incorporates Reiki\, essential oils &amp\; vibroacoustic music. Reiki is a Japanese technique that uses healing energy to reduce stress &amp\; increase relaxation\, while promoting overall well-being. Reiki practitioners: April Hannah &amp\; Victoria Harris. Yin yoga is a passive style of yoga that targets deep connective tissue &amp\; fascia\, rather than muscle. By holding seated or reclined poses for an extended period of time\, greater flexibility &amp\; improved range of motion are achieved. Yoga instructor: Karen Radley. Vibroacoustic therapy uses live music to reduce emotional &amp\; physical pain and promote harmony &amp\; balance within the the mind\, body &amp\; spirit. Therapeutic musician: Dennis Dominick. No prior experience needed\, all are welcome! Wellness investment: $40 Pre-registration required\; space is limited. http://www.hannahshealing.com/classes-workshops/
LOCATION:Bloom: A Movement Space Studio 153 Regent St\, Ste 1000 Saratoga Springs
UID:e.2254.13079
SEQUENCE:3
DTSTAMP:20260422T082020Z
URL:https://chamber.saratoga.org/events/details/r-y-m-workshop-reiki-yoga-music-12-06-2015-13079
END:VEVENT

END:VCALENDAR
