BEGIN:VCALENDAR
VERSION:2.0
PRODID:-//ChamberMaster//Event Calendar 2.0//EN
METHOD:PUBLISH
X-PUBLISHED-TTL:P3D
REFRESH-INTERVAL:P3D
CALSCALE:GREGORIAN
BEGIN:VEVENT
DTSTART:20161231T233000Z
DTEND:20170101T060000Z
X-MICROSOFT-CDO-ALLDAYEVENT:FALSE
SUMMARY:Queensbury Hotel New Year's Eve Gala w/ Soul Session and Garland Nelson
DESCRIPTION:
X-ALT-DESC;FMTTYPE=text/html:
LOCATION:
UID:e.2254.21757
SEQUENCE:3
DTSTAMP:20260420T152336Z
URL:https://chamber.saratoga.org/events/details/queensbury-hotel-new-year-s-eve-gala-w-soul-session-and-garland-nelson-21757
END:VEVENT

END:VCALENDAR
