BEGIN:VCALENDAR
VERSION:2.0
PRODID:-//ChamberMaster//Event Calendar 2.0//EN
METHOD:PUBLISH
X-PUBLISHED-TTL:P3D
REFRESH-INTERVAL:P3D
CALSCALE:GREGORIAN
BEGIN:VEVENT
DTSTART:20140705T000000Z
DTEND:20140705T070000Z
X-MICROSOFT-CDO-ALLDAYEVENT:FALSE
SUMMARY:Putnam Den Presents Phish Week After Party! - 07/04/2014
DESCRIPTION:Twiddle @ Putnam Den AND Waylon Speed @ PARTING GLASSAttend either show for $10 or roam back & forth for $15!  Please visit Putnamden.com for all the juicy details!
X-ALT-DESC;FMTTYPE=text/html:<p>Twiddle @ Putnam Den AND Waylon Speed @ PARTING GLASS</p>Attend either show for $10 or roam back &amp\; forth for $15!&nbsp\; Please visit Putnamden.com for all the juicy details!
LOCATION:Putnam Den
UID:e.2254.3314
SEQUENCE:3
DTSTAMP:20260424T215434Z
URL:https://chamber.saratoga.org/events/details/putnam-den-presents-phish-week-after-party-07-04-2014-07-04-2014-3314
END:VEVENT

END:VCALENDAR
