BEGIN:VCALENDAR
VERSION:2.0
PRODID:-//ChamberMaster//Event Calendar 2.0//EN
METHOD:PUBLISH
X-PUBLISHED-TTL:P3D
REFRESH-INTERVAL:P3D
CALSCALE:GREGORIAN
BEGIN:VEVENT
DTSTART:20140808T230000Z
DTEND:20140808T050000Z
X-MICROSOFT-CDO-ALLDAYEVENT:FALSE
SUMMARY:Putnam Den Presents Forbidden Science Fair - 08/08/2014
DESCRIPTION:EDM PARTY! 6 DJ's/Artists until late night!Come check out EDM night at Putnam Den!  It's free unless under 21 $5
X-ALT-DESC;FMTTYPE=text/html:<p>EDM PARTY! 6 DJ's/Artists until late night!</p>Come check out EDM night at Putnam Den!&nbsp\; It's free unless under 21 $5
LOCATION:Putnam Den
UID:e.2254.3490
SEQUENCE:3
DTSTAMP:20260424T140015Z
URL:https://chamber.saratoga.org/events/details/putnam-den-presents-forbidden-science-fair-08-08-2014-08-08-2014-3490
END:VEVENT

END:VCALENDAR
