BEGIN:VCALENDAR
VERSION:2.0
PRODID:-//ChamberMaster//Event Calendar 2.0//EN
METHOD:PUBLISH
X-PUBLISHED-TTL:P3D
REFRESH-INTERVAL:P3D
CALSCALE:GREGORIAN
BEGIN:VEVENT
DTSTART:20140702T220000Z
DTEND:20140702T040000Z
X-MICROSOFT-CDO-ALLDAYEVENT:FALSE
SUMMARY:Putnam Den 5 YEAR ANNIVERSARY Celebration with Everyone Orchestra! - 07/02/2014
DESCRIPTION:Everyone Orchestra kicks off Phish Week at Putnam Den! Please go to putnamden.com for all the details!
X-ALT-DESC;FMTTYPE=text/html:<p>Everyone Orchestra kicks off Phish Week at Putnam Den! </p><p>Please go to putnamden.com for all the details! </p><p></p>
LOCATION:Putnam Den
UID:e.2254.3312
SEQUENCE:3
DTSTAMP:20260424T180209Z
URL:https://chamber.saratoga.org/events/details/putnam-den-5-year-anniversary-celebration-with-everyone-orchestra-07-02-2014-07-02-2014-3312
END:VEVENT

END:VCALENDAR
