BEGIN:VCALENDAR
VERSION:2.0
PRODID:-//ChamberMaster//Event Calendar 2.0//EN
METHOD:PUBLISH
X-PUBLISHED-TTL:P3D
REFRESH-INTERVAL:P3D
CALSCALE:GREGORIAN
BEGIN:VEVENT
DTSTART:20150530T140000Z
DTEND:20150530T150000Z
X-MICROSOFT-CDO-ALLDAYEVENT:FALSE
SUMMARY:Puppet Show!
DESCRIPTION:The puppet show offers to our young audience an assortment of fun and educational performances which are suited for a wide variety of ages. The show has been created to enchant those of any age\, from child to adult! It combines a delightful mix of zany puppetry and live interaction that is enjoyed by all. This puppet production is especially engaging and interactive! It's a great show for pre-school age children and can be perfect for a younger audience. Limited availability. Please register on line http://thegeniusplaza.com/events-3/
X-ALT-DESC;FMTTYPE=text/html:The puppet show offers to our young audience an assortment of fun and educational performances which are suited for a wide variety of ages. The show has been created to enchant those of any age\, from child to adult! It combines a delightful mix of zany puppetry and live interaction that is enjoyed by all. This puppet production is especially engaging and interactive! It&#39\;s a great show for pre-school age children and can be perfect for a younger audience. Limited availability. Please register on line http://thegeniusplaza.com/events-3/
LOCATION:The Genius Plaza - 511 Moe Rd. - Clifton Park\, NY 12065
UID:e.2254.8354
SEQUENCE:3
DTSTAMP:20260423T165631Z
URL:https://chamber.saratoga.org/events/details/puppet-show-05-30-2015-8354
END:VEVENT

END:VCALENDAR
