BEGIN:VCALENDAR
VERSION:2.0
PRODID:-//ChamberMaster//Event Calendar 2.0//EN
METHOD:PUBLISH
X-PUBLISHED-TTL:P3D
REFRESH-INTERVAL:P3D
CALSCALE:GREGORIAN
BEGIN:VEVENT
DTSTART:20150227T000000Z
DTEND:20150227T020000Z
X-MICROSOFT-CDO-ALLDAYEVENT:FALSE
SUMMARY:Pulling Together - Saratoga Rowing Association
DESCRIPTION:An event to kick off Saratoga Rowing Association's (SRA) capital campaign to build Saratoga as a premier rowing destination. The event is open to the public and includes guest speakers discussing SRA's impact on the local community and its businesses. Light hors d'oeuvres will be served along with a cash bar.
X-ALT-DESC;FMTTYPE=text/html:An event to kick off Saratoga Rowing Association&#39\;s (SRA) capital campaign to build Saratoga as a premier rowing destination. The event is open to the public and includes guest speakers discussing SRA&#39\;s impact on the local community and its businesses. Light hors d&#39\;oeuvres will be served along with a cash bar.
LOCATION:Holiday Inn - 232 Broadway\, Saratoga Springs
UID:e.2254.944
SEQUENCE:3
DTSTAMP:20260424T003312Z
URL:https://chamber.saratoga.org/events/details/pulling-together-saratoga-rowing-association-02-26-2015-944
END:VEVENT

END:VCALENDAR
