BEGIN:VCALENDAR
VERSION:2.0
PRODID:-//ChamberMaster//Event Calendar 2.0//EN
METHOD:PUBLISH
X-PUBLISHED-TTL:P3D
REFRESH-INTERVAL:P3D
CALSCALE:GREGORIAN
BEGIN:VEVENT
DTSTART:20140805T150000Z
DTEND:20140805T160000Z
X-MICROSOFT-CDO-ALLDAYEVENT:FALSE
SUMMARY:Public tour of student exhibition in the Winter Gallery - 08/05/2014
DESCRIPTION:Public tour of student exhibition in the Winter Gallery1 p.m.-Tang Museum For more information call 518-580-8080
X-ALT-DESC;FMTTYPE=text/html:<p>Public tour of student exhibition in the Winter Gallery</p><p><span>1 p.m.-Tang Museum</span></p> <span style="font-size: 12pt\; font-family: Times New Roman\,serif\;">For more information call 518-580-8080</span>
LOCATION:Tang Museum\, Skidmore College
UID:e.2254.3433
SEQUENCE:3
DTSTAMP:20260424T160012Z
URL:https://chamber.saratoga.org/events/details/public-tour-of-student-exhibition-in-the-winter-gallery-08-05-2014-08-05-2014-3433
END:VEVENT

END:VCALENDAR
