BEGIN:VCALENDAR
VERSION:2.0
PRODID:-//ChamberMaster//Event Calendar 2.0//EN
METHOD:PUBLISH
X-PUBLISHED-TTL:P3D
REFRESH-INTERVAL:P3D
CALSCALE:GREGORIAN
BEGIN:VEVENT
DTSTART:20150325T213000Z
DTEND:20150325T223000Z
X-MICROSOFT-CDO-ALLDAYEVENT:FALSE
SUMMARY:Public Tour of Nicholas Krushenick-Electric Soup
DESCRIPTION:Public Tour of Nicholas Krushenick-Electric Soup 5:30 p.m.-Tang Museum For more information call 518-580-8080
X-ALT-DESC;FMTTYPE=text/html:Public Tour of Nicholas Krushenick-Electric Soup 5:30 p.m.-Tang Museum For more information call 518-580-8080
LOCATION:Tang Museum\, Skidmore College 815 N Broadway Saratoga Springs\, NY 12866
UID:e.2254.6696
SEQUENCE:3
DTSTAMP:20260423T214718Z
URL:https://chamber.saratoga.org/events/details/public-tour-of-nicholas-krushenick-electric-soup-03-25-2015-6696
END:VEVENT

END:VCALENDAR
