BEGIN:VCALENDAR
VERSION:2.0
PRODID:-//ChamberMaster//Event Calendar 2.0//EN
METHOD:PUBLISH
X-PUBLISHED-TTL:P3D
REFRESH-INTERVAL:P3D
CALSCALE:GREGORIAN
BEGIN:VEVENT
DTSTART:20161013T220000Z
DTEND:20161014T010000Z
X-MICROSOFT-CDO-ALLDAYEVENT:FALSE
SUMMARY:Project Lift University 2016
DESCRIPTION:A benefit to support Franklin Community Center's after school prevention program\, Project Lift. Enjoy music\, heavy appetizers\, open bar and mingling.
X-ALT-DESC;FMTTYPE=text/html:A benefit to support Franklin Community Center&#39\;s after school prevention program\, Project Lift. Enjoy music\, heavy appetizers\, open bar and mingling.
LOCATION:Longfellows Inn 500 Union Avenue Saratoga Springs\, NY 12866
UID:e.2254.14892
SEQUENCE:3
DTSTAMP:20260420T213506Z
URL:https://chamber.saratoga.org/events/details/project-lift-university-2016-10-13-2016-14892
END:VEVENT

END:VCALENDAR
