BEGIN:VCALENDAR
VERSION:2.0
PRODID:-//ChamberMaster//Event Calendar 2.0//EN
METHOD:PUBLISH
X-PUBLISHED-TTL:P3D
REFRESH-INTERVAL:P3D
CALSCALE:GREGORIAN
BEGIN:VEVENT
DTSTART:20151008T220000Z
DTEND:20151009T010000Z
X-MICROSOFT-CDO-ALLDAYEVENT:FALSE
SUMMARY:Project Lift University 2015
DESCRIPTION:A happy hour based annual fundraiser to support Franklin Community Center's after school prevention program\, Project Lift. For more information please visit www.franklincommunitycenter.org and select Project Lift University under the Fundraising Events tab. Hors d'oeuvres\, open bar and live music included
X-ALT-DESC;FMTTYPE=text/html:A happy hour based annual fundraiser to support Franklin Community Center&#39\;s after school prevention program\, Project Lift. For more information please visit www.franklincommunitycenter.org and select Project Lift University under the Fundraising Events tab. Hors d&#39\;oeuvres\, open bar and live music included
LOCATION:Longfellows Inn\, 500 Union Avenue Saratoga Springs
UID:e.2254.9628
SEQUENCE:3
DTSTAMP:20260422T192751Z
URL:https://chamber.saratoga.org/events/details/project-lift-university-2015-10-08-2015-9628
END:VEVENT

END:VCALENDAR
