BEGIN:VCALENDAR
VERSION:2.0
PRODID:-//ChamberMaster//Event Calendar 2.0//EN
METHOD:PUBLISH
X-PUBLISHED-TTL:P3D
REFRESH-INTERVAL:P3D
CALSCALE:GREGORIAN
BEGIN:VEVENT
DTSTART:20150503T000000Z
DTEND:20150503T023000Z
X-MICROSOFT-CDO-ALLDAYEVENT:FALSE
SUMMARY:Proctors Theater in Schenectady\, NY Presents: "The Hit Men"
DESCRIPTION:Proctors Theater in Schenectady\, NY Presents: "The Hit Men" featuring: Former Stars of Mega-Hit Acts: Frankie Valli & The Four Seasons Tommy James & The Shondells\, Saturday\, May 2\, 2015 at 8:00 pm
X-ALT-DESC;FMTTYPE=text/html:Proctors Theater in Schenectady\, NY Presents: &quot\;The Hit Men&quot\; featuring: Former Stars of Mega-Hit Acts: Frankie Valli &amp\; The Four Seasons Tommy James &amp\; The Shondells\, Saturday\, May 2\, 2015 at 8:00 pm
LOCATION:Proctors Theater 432 State Street Schenectady\, New York 12305
UID:e.2254.6158
SEQUENCE:3
DTSTAMP:20260423T164048Z
URL:https://chamber.saratoga.org/events/details/proctors-theater-in-schenectady-ny-presents-the-hit-men-05-02-2015-6158
END:VEVENT

END:VCALENDAR
