BEGIN:VCALENDAR
VERSION:2.0
PRODID:-//ChamberMaster//Event Calendar 2.0//EN
METHOD:PUBLISH
X-PUBLISHED-TTL:P3D
REFRESH-INTERVAL:P3D
CALSCALE:GREGORIAN
BEGIN:VEVENT
DTSTART:20150526T230000Z
DTEND:20150531T180000Z
X-MICROSOFT-CDO-ALLDAYEVENT:FALSE
SUMMARY:Proctors Theater in Schenectady\, NY Presents: PIPPIN
DESCRIPTION:Proctors Theater Presents: PIPPIN 2013 Tony Award Winner - Best Musical Revival
X-ALT-DESC;FMTTYPE=text/html:Proctors Theater Presents: PIPPIN 2013 Tony Award Winner - Best Musical Revival
LOCATION:Proctors Theater 432 State Street Schenectady\, New York 12305
UID:e.2254.6050
SEQUENCE:3
DTSTAMP:20260423T170952Z
URL:https://chamber.saratoga.org/events/details/proctors-theater-in-schenectady-ny-presents-pippin-05-26-2015-6050
END:VEVENT

END:VCALENDAR
