BEGIN:VCALENDAR
VERSION:2.0
PRODID:-//ChamberMaster//Event Calendar 2.0//EN
METHOD:PUBLISH
X-PUBLISHED-TTL:P3D
REFRESH-INTERVAL:P3D
CALSCALE:GREGORIAN
BEGIN:VEVENT
DTSTART:20151125T003000Z
DTEND:20151125T030000Z
X-MICROSOFT-CDO-ALLDAYEVENT:FALSE
SUMMARY:Proctors Theater in Schenectady\, NY:Presents: MythBusters Jamie & Adam Unleased!
DESCRIPTION:Proctors Theater\, Schenectady\, NY Presents: MythBusters - Jamie & Adam Unleashed\, Tuesday\, November 24\, 2015 7:30 pm Proctors Theater 432 State Street Schenectady\, New York 12305 Box Office: (518) 346-6204 Tickets: www.proctors.org Gold(VIP) $150\; Purple $75\; Yellow $60\; Pink $50\; Green $35\; Blue $20
X-ALT-DESC;FMTTYPE=text/html:Proctors Theater\, Schenectady\, NY Presents: MythBusters - Jamie &amp\; Adam Unleashed\, Tuesday\, November 24\, 2015 7:30 pm Proctors Theater 432 State Street Schenectady\, New York 12305 Box Office: (518) 346-6204 Tickets: www.proctors.org Gold(VIP) $150\; Purple $75\; Yellow $60\; Pink $50\; Green $35\; Blue $20
LOCATION:Proctors Theater 432 State Street Schenectady\, New York 12305
UID:e.2254.9603
SEQUENCE:3
DTSTAMP:20260422T104127Z
URL:https://chamber.saratoga.org/events/details/proctors-theater-in-schenectady-ny-presents-mythbusters-jamie-adam-unleased-11-24-2015-9603
END:VEVENT

END:VCALENDAR
