BEGIN:VCALENDAR
VERSION:2.0
PRODID:-//ChamberMaster//Event Calendar 2.0//EN
METHOD:PUBLISH
X-PUBLISHED-TTL:P3D
REFRESH-INTERVAL:P3D
CALSCALE:GREGORIAN
BEGIN:VEVENT
DTSTART:20150329T000000Z
DTEND:20150329T023000Z
X-MICROSOFT-CDO-ALLDAYEVENT:FALSE
SUMMARY:Proctors Theater in Schenectady\, NY Presents: Jekyll & Hyde
DESCRIPTION:Proctors Theater in Schenectady\, NY Presents: Jekyll & Hyde Saturday\, March 28\, 2015 8:00 pm Proctors Theater 432 State Street Schenectady\, New York 12305 Box Office: (518) 346-6204 On-line: www.proctors.org Tickets: $20 - $65
X-ALT-DESC;FMTTYPE=text/html:Proctors Theater in Schenectady\, NY Presents: Jekyll &amp\; Hyde Saturday\, March 28\, 2015 8:00 pm Proctors Theater 432 State Street Schenectady\, New York 12305 Box Office: (518) 346-6204 On-line: www.proctors.org Tickets: $20 - $65
LOCATION:Proctors Theater 432 State Street Schenectady\, New York 12305
UID:e.2254.5024
SEQUENCE:3
DTSTAMP:20260423T214316Z
URL:https://chamber.saratoga.org/events/details/proctors-theater-in-schenectady-ny-presents-jekyll-hyde-03-28-2015-5024
END:VEVENT

END:VCALENDAR
