BEGIN:VCALENDAR
VERSION:2.0
PRODID:-//ChamberMaster//Event Calendar 2.0//EN
METHOD:PUBLISH
X-PUBLISHED-TTL:P3D
REFRESH-INTERVAL:P3D
CALSCALE:GREGORIAN
BEGIN:VEVENT
DTSTART:20150321T000000Z
DTEND:20150321T023000Z
X-MICROSOFT-CDO-ALLDAYEVENT:FALSE
SUMMARY:Proctors Theater in Schenectady\, NY Presents: "Jay Leno" Live In Concert
DESCRIPTION:Proctors Theater in Schenectady\, NY Presents: Jay Leno - Live In Concert Friday\, March 20\, 2015 at 8:00 pm
X-ALT-DESC;FMTTYPE=text/html:Proctors Theater in Schenectady\, NY Presents: Jay Leno - Live In Concert Friday\, March 20\, 2015 at 8:00 pm
LOCATION:Proctors Theater 432 State Street Schenectady\, New York 12305
UID:e.2254.6156
SEQUENCE:3
DTSTAMP:20260423T214702Z
URL:https://chamber.saratoga.org/events/details/proctors-theater-in-schenectady-ny-presents-jay-leno-live-in-concert-03-20-2015-6156
END:VEVENT

END:VCALENDAR
