BEGIN:VCALENDAR
VERSION:2.0
PRODID:-//ChamberMaster//Event Calendar 2.0//EN
METHOD:PUBLISH
X-PUBLISHED-TTL:P3D
REFRESH-INTERVAL:P3D
CALSCALE:GREGORIAN
BEGIN:VEVENT
DTSTART:20160501T000000Z
DTEND:20160501T023000Z
X-MICROSOFT-CDO-ALLDAYEVENT:FALSE
SUMMARY:Proctors Theater in Schenectady\, NY Presents: Alton Brown LIVE Eat Your Science
DESCRIPTION:Proctors Theater in Schenectady\, NY presents: Alton Brown LIVE Eat Your Science Saturday\, April 30\, 2016 8:00 pm Proctors Theater 432 State Street Schenectady\, New York 12305 Tickets: $20 - $125 Box Office: (518) 346-6204 On-Line: www.proctors.org
X-ALT-DESC;FMTTYPE=text/html:Proctors Theater in Schenectady\, NY presents: Alton Brown LIVE Eat Your Science Saturday\, April 30\, 2016 8:00 pm Proctors Theater 432 State Street Schenectady\, New York 12305 Tickets: $20 - $125 Box Office: (518) 346-6204 On-Line: www.proctors.org
LOCATION:Proctors Theater 432 State Street Schenectady\, New York 12305
UID:e.2254.13541
SEQUENCE:3
DTSTAMP:20260421T164117Z
URL:https://chamber.saratoga.org/events/details/proctors-theater-in-schenectady-ny-presents-alton-brown-live-eat-your-science-04-30-2016-13541
END:VEVENT

END:VCALENDAR
