BEGIN:VCALENDAR
VERSION:2.0
PRODID:-//ChamberMaster//Event Calendar 2.0//EN
METHOD:PUBLISH
X-PUBLISHED-TTL:P3D
REFRESH-INTERVAL:P3D
CALSCALE:GREGORIAN
BEGIN:VEVENT
DTSTART:20140718T110000Z
DTEND:20140718T183000Z
X-MICROSOFT-CDO-ALLDAYEVENT:FALSE
SUMMARY:"Printnation" - 07/18/2014
DESCRIPTION:"Printnation"Printmaking demonstrations and talks in Skidmore’s printshop. 9 a.m.-4:30 p.m.-Saisselin Art Building\, room 107\n For more information call 518-580-5049
X-ALT-DESC;FMTTYPE=text/html:<p>"Printnation"</p><p><span>Printmaking demonstrations and talks in Skidmore’s printshop.</span></p> <p><span style="background: yellow\;"></span>9 a.m.<span>-4:30 p.m.-Saisselin Art Building\, room 107<br></span></p> <span style="font-size: 12pt\; font-family: Times New Roman\,serif\;">For more information call 518-580-5049</span>
LOCATION:Saisselin Art Building
UID:e.2254.3394
SEQUENCE:3
DTSTAMP:20260424T222124Z
URL:https://chamber.saratoga.org/events/details/printnation-07-18-2014-07-18-2014-3394
END:VEVENT

END:VCALENDAR
