BEGIN:VCALENDAR
VERSION:2.0
PRODID:-//ChamberMaster//Event Calendar 2.0//EN
METHOD:PUBLISH
X-PUBLISHED-TTL:P3D
REFRESH-INTERVAL:P3D
CALSCALE:GREGORIAN
BEGIN:VEVENT
DTSTART:20140830T130000Z
DTEND:20140830T143000Z
X-MICROSOFT-CDO-ALLDAYEVENT:FALSE
SUMMARY:Princess Party - 08/30/2014
DESCRIPTION:The National Museum of Dance is holding a Princess Party on Saturday\, August 30\, 2014. The event will be from 11:00am-12:30pm and is open to children ages 4-6. The celebration will include a creative movement class\, craft making\, and exploring the Alfred Z. Soloman Children’s Wing. All children should wear their favorite princess outfit to the event. The cost is $12 per child or $20 for two children. To RSVP\, please call 518-584-2225 x3012 or email intern@dancemuseum.org.
X-ALT-DESC;FMTTYPE=text/html:<p>The National Museum of Dance is holding a Princess Party on Saturday\, August 30\, 2014. The event will be from 11:00am-12:30pm and is open to children ages 4-6. </p><span style="font-size: 12pt\; line-height: 107%\; font-family: 'Times New Roman'\, serif\;">The celebration will include a creative movement class\, craft making\, and exploring the Alfred Z. Soloman Children’s Wing. All children should wear their favorite princess outfit to the event. The cost is $12 per child or $20 for two children. To RSVP\, please call 518-584-2225 x3012 or email </span><span style="font-size: 11pt\; line-height: 107%\; font-family: Calibri\, sans-serif\;"><a href="mailto:intern@dancemuseum.org"><span style="font-size: 12pt\; line-height: 107%\; font-family: 'Times New Roman'\, serif\;">intern@dancemuseum.org</span></a></span><span style="font-size: 12pt\; line-height: 107%\; font-family: 'Times New Roman'\, serif\;">.</span><br>
LOCATION:National Museum of Dance
UID:e.2254.3483
SEQUENCE:3
DTSTAMP:20260424T135831Z
URL:https://chamber.saratoga.org/events/details/princess-party-08-30-2014-08-30-2014-3483
END:VEVENT

END:VCALENDAR
