BEGIN:VCALENDAR
VERSION:2.0
PRODID:-//ChamberMaster//Event Calendar 2.0//EN
METHOD:PUBLISH
X-PUBLISHED-TTL:P3D
REFRESH-INTERVAL:P3D
CALSCALE:GREGORIAN
BEGIN:VEVENT
DTSTART:20170129T200000Z
DTEND:20170129T210000Z
X-MICROSOFT-CDO-ALLDAYEVENT:FALSE
SUMMARY:Albany Symphony Presents: Finding Do-Re (and Mi)
DESCRIPTION:Help Do-re find her voice and discover how to sing!  Join the Albany Symphony and four brilliant young singers in an epic undersea operatic adventure featuring music by Mozart\, Rossini\, Verdi and Puccini.\n\n"Sunday Symphonies" are energetic\, hour-long concerts featuring Maestro David Alan Miller in costume\, portraying figures from music history and his own imagination. Engaging and entertaining\, Sunday Symphonies are wonderfully effective tools for bringing families together and building classical music audiences for the future.\n\nCome one hour before the Sunday Symphony for hands-on activities including an Instrument Petting Zoo sponsored by John Keal Music.\nPrice: Adults are $20 and children 12 and under are free\, courtesy of GE Kids in Free Days.
X-ALT-DESC;FMTTYPE=text/html:<div>Help Do-re find her voice and discover how to sing! &nbsp\;Join the Albany Symphony and four brilliant young singers in an epic undersea operatic adventure featuring music by Mozart\, Rossini\, Verdi and Puccini.</div>\n\n<p><span style="font-size: 12px\;">&ldquo\;Sunday Symphonies&rdquo\; are energetic\, hour-long concerts featuring Maestro David Alan Miller in costume\, portraying figures from music history and his own imagination. Engaging and entertaining\, Sunday Symphonies are wonderfully effective tools for bringing families together and building classical music audiences for the future.</span></p>\n\n<p><span style="font-size: 12px\;">Come one hour before the Sunday Symphony for hands-on activities including an Instrument Petting Zoo sponsored by John Keal Music.</span></p>\nPrice: Adults are $20 and children 12 and under are free\, courtesy of GE Kids in Free Days.
LOCATION:Arthur Zankel Music Center Skidmore College 815 North Broadway Saratoga Springs\, NY 12866
UID:e.2254.21806
SEQUENCE:3
DTSTAMP:20260420T152306Z
URL:https://chamber.saratoga.org/events/details/price-chopper-sunday-symphonies-presents-finding-do-re-and-mi-21806
END:VEVENT

END:VCALENDAR
