BEGIN:VCALENDAR
VERSION:2.0
PRODID:-//ChamberMaster//Event Calendar 2.0//EN
METHOD:PUBLISH
X-PUBLISHED-TTL:P3D
REFRESH-INTERVAL:P3D
CALSCALE:GREGORIAN
BEGIN:VEVENT
DTSTART:20150729T140000Z
DTEND:20150729T150000Z
X-MICROSOFT-CDO-ALLDAYEVENT:FALSE
SUMMARY:Preschool Naturalists
DESCRIPTION:Preschool Naturalists is a nature class designed for children ages 3 to 5. This hour long program will focus on using all five senses to explore a certain aspect of the outdoor world. Children will also enjoy a nature related story and craft. Fee is $3 per person or $5 per family. Please call 518-584-2000 Ext. 116 to register.
X-ALT-DESC;FMTTYPE=text/html:Preschool Naturalists is a nature class designed for children ages 3 to 5. This hour long program will focus on using all five senses to explore a certain aspect of the outdoor world. Children will also enjoy a nature related story and craft. Fee is $3 per person or $5 per family. Please call 518-584-2000 Ext. 116 to register.
LOCATION:Saratoga Spa State Park
UID:e.2254.10024
SEQUENCE:3
DTSTAMP:20260423T040942Z
URL:https://chamber.saratoga.org/events/details/preschool-naturalists-07-29-2015-10024
END:VEVENT

END:VCALENDAR
