BEGIN:VCALENDAR
VERSION:2.0
PRODID:-//ChamberMaster//Event Calendar 2.0//EN
METHOD:PUBLISH
X-PUBLISHED-TTL:P3D
REFRESH-INTERVAL:P3D
CALSCALE:GREGORIAN
BEGIN:VEVENT
DTSTART:20160919T143000Z
DTEND:20160919T153000Z
X-MICROSOFT-CDO-ALLDAYEVENT:FALSE
SUMMARY:Pre-K Discovery Day
DESCRIPTION:This monthly program is for our youngest explorers (ages 3-6 years old) where we use children's love of nature to teach simple concepts. Adults are expected to attend. This is an outdoor program so please come dressed for the weather. We will go on a short walk\, do a simple nature craft\, and have a healthy snack! Pre registration is required.
X-ALT-DESC;FMTTYPE=text/html:This monthly program is for our youngest explorers (ages 3-6 years old) where we use children&rsquo\;s love of nature to teach simple concepts. Adults are expected to attend. This is an outdoor program so please come dressed for the weather. We will go on a short walk\, do a simple nature craft\, and have a healthy snack! Pre&nbsp\;registration is required.
LOCATION:Wilton Wildlife Preserve and Park at Camp Saratoga\, Parking Lot 1
UID:e.2254.19528
SEQUENCE:3
DTSTAMP:20260421T002058Z
URL:https://chamber.saratoga.org/events/details/pre-k-discovery-day-19528
END:VEVENT

END:VCALENDAR
