BEGIN:VCALENDAR
VERSION:2.0
PRODID:-//ChamberMaster//Event Calendar 2.0//EN
METHOD:PUBLISH
X-PUBLISHED-TTL:P3D
REFRESH-INTERVAL:P3D
CALSCALE:GREGORIAN
BEGIN:VEVENT
DTSTART:20161017T143000Z
DTEND:20161017T153000Z
X-MICROSOFT-CDO-ALLDAYEVENT:FALSE
SUMMARY:Pre-K Discovery Day
DESCRIPTION:This monthly program is for our youngest explorers (ages 3-6 years old) where we use children's love of nature to teach simple concepts. Adults are expected to attend. This is an outdoor program so please come dressed for the weather. We will go on a short walk\, do a simple nature craft\, and have a healthy snack! Pre registration is required. Upcoming dates: November 14 and December 12
X-ALT-DESC;FMTTYPE=text/html:This monthly program is for our youngest explorers (ages 3-6 years old) where we use children&rsquo\;s love of nature to teach simple concepts. Adults are expected to attend. This is an outdoor program so please come dressed for the weather. We will go on a short walk\, do a simple nature craft\, and have a healthy snack! Pre&nbsp\;registration is required. Upcoming dates: November 14 and December 12
LOCATION:Camp Saratoga on Scout Road at Parking Lot #1
UID:e.2254.20769
SEQUENCE:3
DTSTAMP:20260420T213425Z
URL:https://chamber.saratoga.org/events/details/pre-k-discovery-day-10-17-2016-20769
END:VEVENT

END:VCALENDAR
