BEGIN:VCALENDAR
VERSION:2.0
PRODID:-//ChamberMaster//Event Calendar 2.0//EN
METHOD:PUBLISH
X-PUBLISHED-TTL:P3D
REFRESH-INTERVAL:P3D
CALSCALE:GREGORIAN
BEGIN:VEVENT
DTSTART:20140709T150000Z
DTEND:20140709T160000Z
X-MICROSOFT-CDO-ALLDAYEVENT:FALSE
SUMMARY:Porch Chat: A True Renaissance Warrior - 07/09/2014
DESCRIPTION:History lecture seriesThomas Wentworth Higginson funded John Brown's Harper's Ferry raid and later commanded a regiment of freed slaves.  Higginson\, a true Renaissance warrior\, knew that both the pen and the sword can be mighty.  Poet Emily Dickinson was introduced and mentored by Higginson.  Join him as he reminisces about General Grant\, John Brown\, his command of the 1st. South Carolina Volunteers - and brings his friend Emily Dickinson to the stage to read some of her virtually unknown Civil War poems. Grant Cottage tour guides Steve Trimm and Diana O'Brien will portray Thomas and Emily.
X-ALT-DESC;FMTTYPE=text/html:<p>History lecture series</p>Thomas Wentworth Higginson funded John Brown's Harper's Ferry raid and later commanded a regiment of freed slaves.&nbsp\; Higginson\, a true Renaissance warrior\, knew that both the pen and the sword can be mighty.&nbsp\; Poet Emily Dickinson was introduced and mentored by Higginson.&nbsp\; Join him as he reminisces about General Grant\, John Brown\, his command of the 1st. South Carolina Volunteers - and brings his friend Emily Dickinson to the stage to read some of her virtually unknown Civil War poems. Grant Cottage tour guides Steve Trimm and Diana O'Brien will portray Thomas and Emily. <BR>
LOCATION:Grant Cottage State Historic Site
UID:e.2254.2701
SEQUENCE:3
DTSTAMP:20260424T215346Z
URL:https://chamber.saratoga.org/events/details/porch-chat-a-true-renaissance-warrior-07-09-2014-07-09-2014-2701
END:VEVENT

END:VCALENDAR
