BEGIN:VCALENDAR
VERSION:2.0
PRODID:-//ChamberMaster//Event Calendar 2.0//EN
METHOD:PUBLISH
X-PUBLISHED-TTL:P3D
REFRESH-INTERVAL:P3D
CALSCALE:GREGORIAN
BEGIN:VEVENT
DTSTART:20160320T170000Z
DTEND:20160320T210000Z
X-MICROSOFT-CDO-ALLDAYEVENT:FALSE
SUMMARY:POLKA COUNTRY "HO" DOWN
DESCRIPTION:LIVE POLKA/COUNTRY MUSIC BY POLKA COUNTRY MUSICIANS/ JEWETT CITY\, CT. PRIZES/ EASTER RAFFLES\, 50/50 K OF C CASH BAR/KITCHEN ALL PROCEEDS BENEFIT SARATOGA BRIDGES\, FOR THE DISABLED
X-ALT-DESC;FMTTYPE=text/html:LIVE POLKA/COUNTRY MUSIC BY POLKA COUNTRY MUSICIANS/ JEWETT CITY\, CT. PRIZES/ EASTER RAFFLES\, 50/50 K OF C CASH BAR/KITCHEN ALL PROCEEDS BENEFIT SARATOGA BRIDGES\, FOR THE DISABLED
LOCATION:SARATOGA K OF C HALL 50 PINE RD SARATOGA
UID:e.2254.14881
SEQUENCE:3
DTSTAMP:20260422T004457Z
URL:https://chamber.saratoga.org/events/details/polka-country-ho-down-03-20-2016-14881
END:VEVENT

END:VCALENDAR
