BEGIN:VCALENDAR
VERSION:2.0
PRODID:-//ChamberMaster//Event Calendar 2.0//EN
METHOD:PUBLISH
X-PUBLISHED-TTL:P3D
REFRESH-INTERVAL:P3D
CALSCALE:GREGORIAN
BEGIN:VEVENT
DTSTART:20150324T213000Z
DTEND:20150325T010000Z
X-MICROSOFT-CDO-ALLDAYEVENT:FALSE
SUMMARY:Pixel Perfect
DESCRIPTION:Complexions Spa is welcoming all ladies for a night of beauty\, wellness and fun. Learn all you need to know about maintaining a flawless\, youthful complexion from Complexions Spa's professional estheticians. The evening begins with a demonstration of how to properly prep your skin before applying makeup\, no matter skin type you have\, followed by step-by-step instructions on how to achieve a fresh\, polished look that's simply flawless and utterly undetectable. With naked lip colors\, silky smooth skin and beautiful brows\, spring is all about mastering a fresh-faced look with minimal traces of makeup. Space is limited\, so RSVP and save your spot with a $25 non-refundable deposit. Those in attendance will also receive a 15% discount off any purchase made that evening. Please call (518) 306-5502 to reserve your place today.
X-ALT-DESC;FMTTYPE=text/html:Complexions Spa is welcoming all ladies for a night of beauty\, wellness and fun. Learn all you need to know about maintaining a flawless\, youthful complexion from Complexions Spa&#39\;s professional estheticians. The evening begins with a demonstration of how to properly prep your skin before applying makeup\, no matter skin type you have\, followed by step-by-step instructions on how to achieve a fresh\, polished look that&#39\;s simply flawless and utterly undetectable. With naked lip colors\, silky smooth skin and beautiful brows\, spring is all about mastering a fresh-faced look with minimal traces of makeup. Space is limited\, so RSVP and save your spot with a $25 non-refundable deposit. Those in attendance will also receive a 15% discount off any purchase made that evening. Please call (518) 306-5502 to reserve your place today.
LOCATION:Complexions Spa in Saratoga Springs 268 Broadway Saratoga Springs
UID:e.2254.6155
SEQUENCE:3
DTSTAMP:20260423T225451Z
URL:https://chamber.saratoga.org/events/details/pixel-perfect-03-24-2015-6155
END:VEVENT

END:VCALENDAR
