BEGIN:VCALENDAR
VERSION:2.0
PRODID:-//ChamberMaster//Event Calendar 2.0//EN
METHOD:PUBLISH
X-PUBLISHED-TTL:P3D
REFRESH-INTERVAL:P3D
CALSCALE:GREGORIAN
BEGIN:VEVENT
DTSTART:20161029T190000Z
DTEND:20161030T000000Z
X-MICROSOFT-CDO-ALLDAYEVENT:FALSE
SUMMARY:Pints for Preservation Pub Crawl
DESCRIPTION:The Saratoga Springs Preservation Foundation will host the 6th Annual Pints for Preservation Pub Crawl. With the support of local bars\, the proceeds will benefit the Foundation's preservation efforts and restoration projects\, such as the recent Spirit of Life. All participants will receive a complimentary Pub Crawl t-shirt and pint glass with purchase of tickets\, while supplies last. Visit the Foundation's website for more information.
X-ALT-DESC;FMTTYPE=text/html:The Saratoga Springs Preservation Foundation will host the 6th Annual Pints for Preservation Pub Crawl. With the support of local bars\, the proceeds will benefit the Foundation&rsquo\;s preservation efforts and restoration projects\, such as the recent Spirit of Life. All participants will receive a complimentary Pub Crawl t-shirt and pint glass with purchase of tickets\, while supplies last. Visit the Foundation&#39\;s website for more information.
LOCATION:Saratoga Springs
UID:e.2254.20745
SEQUENCE:3
DTSTAMP:20260420T214313Z
URL:https://chamber.saratoga.org/events/details/pints-for-preservation-pub-crawl-20745
END:VEVENT

END:VCALENDAR
