BEGIN:VCALENDAR
VERSION:2.0
PRODID:-//ChamberMaster//Event Calendar 2.0//EN
METHOD:PUBLISH
X-PUBLISHED-TTL:P3D
REFRESH-INTERVAL:P3D
CALSCALE:GREGORIAN
BEGIN:VEVENT
DTSTART:20160319T130000Z
DTEND:20160319T200000Z
X-MICROSOFT-CDO-ALLDAYEVENT:FALSE
SUMMARY:Pine Needle Rim Gourd with Carol Maher. #865-0319. One day
DESCRIPTION:This unusual gourd project\, both elegant and useful\, makes a great centerpiece for your table filled with apples\, or an extra special hand-made gift. The instructor provides top-quality gourds in a variety of sizes and shapes\, tools to cut and clean them\, and a wide array of art supplies for you to finish the exterior. To complete the bowl you will lace on a continuous bundle of long-leaf pine needles. Perfect!
X-ALT-DESC;FMTTYPE=text/html:This unusual gourd project\, both elegant and useful\, makes a great centerpiece for your table filled with apples\, or an extra special hand-made gift. The instructor provides top-quality gourds in a variety of sizes and shapes\, tools to cut and clean them\, and a wide array of art supplies for you to finish the exterior. To complete the bowl you will lace on a continuous bundle of long-leaf pine needles. Perfect!
LOCATION:Adirondack Folk School\, 51 Main Street\, Lake Luzerne\, NY 12846
UID:e.2254.15012
SEQUENCE:3
DTSTAMP:20260422T004807Z
URL:https://chamber.saratoga.org/events/details/pine-needle-rim-gourd-with-carol-maher-865-0319-one-day-03-19-2016-15012
END:VEVENT

END:VCALENDAR
