BEGIN:VCALENDAR
VERSION:2.0
PRODID:-//ChamberMaster//Event Calendar 2.0//EN
METHOD:PUBLISH
X-PUBLISHED-TTL:P3D
REFRESH-INTERVAL:P3D
CALSCALE:GREGORIAN
BEGIN:VEVENT
DTSTART:20150502T150000Z
DTEND:20150502T160000Z
X-MICROSOFT-CDO-ALLDAYEVENT:FALSE
SUMMARY:Pilates For The SPCA of Upstate New York
DESCRIPTION:This is a 50 Minute Pilates Mat Class suitable for all levels. There is no fee for the class. Donations will be accepted for a different non-profit organization each week. 100% of the donations will be given to the non-profit. Donations must be in the form of Cash or Check written out to the Non-Profit. No Credit Cards or funds from your reform account accepted for this class. If this is your first time visiting the studio\, please plan to arrive 15 minutes early to fill out paperwork and settle in. Please wear comfortable clothing and socks. If you own a Yoga Mat\, please bring it. Please discuss any injuries or physical limitations with the instructor before the class begins.
X-ALT-DESC;FMTTYPE=text/html:This is a 50 Minute Pilates Mat Class suitable for all levels. There is no fee for the class. Donations will be accepted for a different non-profit organization each week. 100% of the donations will be given to the non-profit. Donations must be in the form of Cash or Check written out to the Non-Profit. No Credit Cards or funds from your reform account accepted for this class. If this is your first time visiting the studio\, please plan to arrive 15 minutes early to fill out paperwork and settle in. Please wear comfortable clothing and socks. If you own a Yoga Mat\, please bring it. Please discuss any injuries or physical limitations with the instructor before the class begins.
LOCATION:18 Division Street Suite 203 Saratoga Springs NY
UID:e.2254.6657
SEQUENCE:3
DTSTAMP:20260423T164227Z
URL:https://chamber.saratoga.org/events/details/pilates-for-the-spca-of-upstate-new-york-05-02-2015-6657
END:VEVENT

END:VCALENDAR
