BEGIN:VCALENDAR
VERSION:2.0
PRODID:-//ChamberMaster//Event Calendar 2.0//EN
METHOD:PUBLISH
X-PUBLISHED-TTL:P3D
REFRESH-INTERVAL:P3D
CALSCALE:GREGORIAN
BEGIN:VEVENT
DTSTART:20150314T150000Z
DTEND:20150314T160000Z
X-MICROSOFT-CDO-ALLDAYEVENT:FALSE
SUMMARY:Pilates For Saratoga Bridges
DESCRIPTION:
X-ALT-DESC;FMTTYPE=text/html:<br>
LOCATION:Reform. A True Pilates Studio
UID:e.2254.4922
SEQUENCE:3
DTSTAMP:20260423T214520Z
URL:https://chamber.saratoga.org/events/details/pilates-for-saratoga-bridges-03-14-2015-4922
END:VEVENT

END:VCALENDAR
