BEGIN:VCALENDAR
VERSION:2.0
PRODID:-//ChamberMaster//Event Calendar 2.0//EN
METHOD:PUBLISH
X-PUBLISHED-TTL:P3D
REFRESH-INTERVAL:P3D
CALSCALE:GREGORIAN
BEGIN:VEVENT
DTSTART:20150509T150000Z
DTEND:20150509T160000Z
X-MICROSOFT-CDO-ALLDAYEVENT:FALSE
SUMMARY:Pilates For Ronald Mcdonald House of Charities in the Capital Region
DESCRIPTION:This is a 50 Minute Pilates Mat Class suitable for all levels. There is no fee for the class. Donations will be accepted for a different non-profit organization each week. 100% of the donations will be given to the non-profit.
X-ALT-DESC;FMTTYPE=text/html:This is a 50 Minute Pilates Mat Class suitable for all levels. There is no fee for the class. Donations will be accepted for a different non-profit organization each week. 100% of the donations will be given to the non-profit.
LOCATION:Reform A True Pilates Studio 18 Division Street Suite 203 Saratoga Springs NY 518-871-1315
UID:e.2254.7672
SEQUENCE:3
DTSTAMP:20260423T164617Z
URL:https://chamber.saratoga.org/events/details/pilates-for-ronald-mcdonald-house-of-charities-in-the-capital-region-05-09-2015-7672
END:VEVENT

END:VCALENDAR
