BEGIN:VCALENDAR
VERSION:2.0
PRODID:-//ChamberMaster//Event Calendar 2.0//EN
METHOD:PUBLISH
X-PUBLISHED-TTL:P3D
REFRESH-INTERVAL:P3D
CALSCALE:GREGORIAN
BEGIN:VEVENT
DTSTART:20160806T140000Z
DTEND:20160806T150000Z
X-MICROSOFT-CDO-ALLDAYEVENT:FALSE
SUMMARY:Pilates For Pitney Community Farm
DESCRIPTION:Join us for our Pilates for A Purpose class on Saturday August 6th! The Class will be accepting donations for The Pitney Community Farm! This is a 50 minute Pilates Mat Class suitable for all levels! Bring a mat if you have one! Please show a few minutes early to fill out paperwork if you are new to the studio!
X-ALT-DESC;FMTTYPE=text/html:Join us for our Pilates for A Purpose class on Saturday August 6th! The Class will be accepting donations for The Pitney Community Farm! This is a 50 minute Pilates Mat Class suitable for all levels! Bring a mat if you have one! Please show a few minutes early to fill out paperwork if you are new to the studio!
LOCATION:Reform Pilates Studio 18 Division St suite 203 Saratoga Springs NY 12866
UID:e.2254.17222
SEQUENCE:3
DTSTAMP:20260421T035154Z
URL:https://chamber.saratoga.org/events/details/pilates-for-pitney-community-farm-08-06-2016-17222
END:VEVENT

END:VCALENDAR
